BEGIN:VCALENDAR
VERSION:2.0
PRODID:-//Arctour.travel - ECPv6.8.3//NONSGML v1.0//EN
CALSCALE:GREGORIAN
METHOD:PUBLISH
X-ORIGINAL-URL:https://arctour.travel
X-WR-CALDESC:Évènements pour Arctour.travel
REFRESH-INTERVAL;VALUE=DURATION:PT1H
X-Robots-Tag:noindex
X-PUBLISHED-TTL:PT1H
BEGIN:VTIMEZONE
TZID:Europe/Paris
BEGIN:DAYLIGHT
TZOFFSETFROM:+0100
TZOFFSETTO:+0200
TZNAME:CEST
DTSTART:20250330T010000
END:DAYLIGHT
BEGIN:STANDARD
TZOFFSETFROM:+0200
TZOFFSETTO:+0100
TZNAME:CET
DTSTART:20251026T010000
END:STANDARD
END:VTIMEZONE
BEGIN:VEVENT
DTSTART;VALUE=DATE:20250619
DTEND;VALUE=DATE:20250620
DTSTAMP:20260422T100350
CREATED:20250212T091417Z
LAST-MODIFIED:20250212T091417Z
UID:5999-1750291200-1750377599@arctour.travel
SUMMARY:OT Abu Dhabi - Lyon - Workshop
DESCRIPTION:
URL:https://arctour.travel/evenement/ot-abu-dhabi-lyon-workshop/
END:VEVENT
END:VCALENDAR