BEGIN:VCALENDAR
VERSION:2.0
PRODID:-//Arctour.travel - ECPv6.8.3//NONSGML v1.0//EN
CALSCALE:GREGORIAN
METHOD:PUBLISH
X-WR-CALNAME:Arctour.travel
X-ORIGINAL-URL:https://arctour.travel
X-WR-CALDESC:Évènements pour Arctour.travel
REFRESH-INTERVAL;VALUE=DURATION:PT1H
X-Robots-Tag:noindex
X-PUBLISHED-TTL:PT1H
BEGIN:VTIMEZONE
TZID:Europe/Paris
BEGIN:DAYLIGHT
TZOFFSETFROM:+0100
TZOFFSETTO:+0200
TZNAME:CEST
DTSTART:20250330T010000
END:DAYLIGHT
BEGIN:STANDARD
TZOFFSETFROM:+0200
TZOFFSETTO:+0100
TZNAME:CET
DTSTART:20251026T010000
END:STANDARD
END:VTIMEZONE
BEGIN:VEVENT
DTSTART;TZID=Europe/Paris:20250911T120000
DTEND;TZID=Europe/Paris:20250911T140000
DTSTAMP:20260422T044444
CREATED:20250612T092631Z
LAST-MODIFIED:20250612T092631Z
UID:6126-1757592000-1757599200@arctour.travel
SUMMARY:VOYAMAR - DIJON - DEJEUNER
DESCRIPTION:En partenariat avec l’OT MARTINIQUE
URL:https://arctour.travel/evenement/voyamar-dijon-dejeuner/
END:VEVENT
BEGIN:VEVENT
DTSTART;TZID=Europe/Paris:20250911T190000
DTEND;TZID=Europe/Paris:20250911T230000
DTSTAMP:20260422T044444
CREATED:20250212T091121Z
LAST-MODIFIED:20250212T091121Z
UID:5997-1757617200-1757631600@arctour.travel
SUMMARY:EXOTISMES - LYON - SOIREE
DESCRIPTION:
URL:https://arctour.travel/evenement/exotismes-lyon-soiree-2/
END:VEVENT
END:VCALENDAR