BEGIN:VCALENDAR
VERSION:2.0
PRODID:-//Arctour.travel - ECPv6.8.3//NONSGML v1.0//EN
CALSCALE:GREGORIAN
METHOD:PUBLISH
X-WR-CALNAME:Arctour.travel
X-ORIGINAL-URL:https://arctour.travel
X-WR-CALDESC:Évènements pour Arctour.travel
REFRESH-INTERVAL;VALUE=DURATION:PT1H
X-Robots-Tag:noindex
X-PUBLISHED-TTL:PT1H
BEGIN:VTIMEZONE
TZID:Europe/Paris
BEGIN:DAYLIGHT
TZOFFSETFROM:+0100
TZOFFSETTO:+0200
TZNAME:CEST
DTSTART:20250330T010000
END:DAYLIGHT
BEGIN:STANDARD
TZOFFSETFROM:+0200
TZOFFSETTO:+0100
TZNAME:CET
DTSTART:20251026T010000
END:STANDARD
END:VTIMEZONE
BEGIN:VEVENT
DTSTART;TZID=Europe/Paris:20250925T180000
DTEND;TZID=Europe/Paris:20250925T220000
DTSTAMP:20260422T044403
CREATED:20250211T100259Z
LAST-MODIFIED:20250211T100259Z
UID:5980-1758823200-1758837600@arctour.travel
SUMMARY:PONANT & BEACHCOMBER - LYON - SOIREE
DESCRIPTION:
URL:https://arctour.travel/evenement/ponant-beachcomber-lyon-soiree-2/
END:VEVENT
BEGIN:VEVENT
DTSTART;TZID=Europe/Paris:20250925T183000
DTEND;TZID=Europe/Paris:20250925T233000
DTSTAMP:20260422T044403
CREATED:20250725T144347Z
LAST-MODIFIED:20250725T144347Z
UID:6236-1758825000-1758843000@arctour.travel
SUMMARY:TUI - DIJON - DINER
DESCRIPTION:
URL:https://arctour.travel/evenement/tui-dijon-diner-2/
END:VEVENT
END:VCALENDAR