BEGIN:VCALENDAR
VERSION:2.0
PRODID:-//Arctour.travel - ECPv6.8.3//NONSGML v1.0//EN
CALSCALE:GREGORIAN
METHOD:PUBLISH
X-ORIGINAL-URL:https://arctour.travel
X-WR-CALDESC:Évènements pour Arctour.travel
REFRESH-INTERVAL;VALUE=DURATION:PT1H
X-Robots-Tag:noindex
X-PUBLISHED-TTL:PT1H
BEGIN:VTIMEZONE
TZID:Europe/Paris
BEGIN:DAYLIGHT
TZOFFSETFROM:+0100
TZOFFSETTO:+0200
TZNAME:CEST
DTSTART:20250330T010000
END:DAYLIGHT
BEGIN:STANDARD
TZOFFSETFROM:+0200
TZOFFSETTO:+0100
TZNAME:CET
DTSTART:20251026T010000
END:STANDARD
END:VTIMEZONE
BEGIN:VEVENT
DTSTART;VALUE=DATE:20251002
DTEND;VALUE=DATE:20251003
DTSTAMP:20260422T024324
CREATED:20241106T102043Z
LAST-MODIFIED:20250311T102146Z
UID:5808-1759363200-1759449599@arctour.travel
SUMMARY:SOLEA - SAINT ETIENNE - PLENIERE
DESCRIPTION:
URL:https://arctour.travel/evenement/solea-chalon-sur-saone-pleniere/
END:VEVENT
BEGIN:VEVENT
DTSTART;TZID=Europe/Paris:20251002T120000
DTEND;TZID=Europe/Paris:20251002T140000
DTSTAMP:20260422T024324
CREATED:20250618T160936Z
LAST-MODIFIED:20250618T160936Z
UID:6132-1759406400-1759413600@arctour.travel
SUMMARY:CROISIEUROPE - DIJON - DEJEUNER
DESCRIPTION:
URL:https://arctour.travel/evenement/croisieurope-dijon-dejeuner/
END:VEVENT
BEGIN:VEVENT
DTSTART;TZID=Europe/Paris:20251002T120000
DTEND;TZID=Europe/Paris:20251002T140000
DTSTAMP:20260422T024324
CREATED:20250728T093812Z
LAST-MODIFIED:20250728T093812Z
UID:6245-1759406400-1759413600@arctour.travel
SUMMARY:TUI - CHALON SUR SAÔNE - DEJEUNER
DESCRIPTION:
URL:https://arctour.travel/evenement/tui-chalon-sur-saone-dejeuner-2/
END:VEVENT
BEGIN:VEVENT
DTSTART;TZID=Europe/Paris:20251002T183000
DTEND;TZID=Europe/Paris:20251002T233000
DTSTAMP:20260422T024324
CREATED:20250721T102856Z
LAST-MODIFIED:20250721T102856Z
UID:6170-1759429800-1759447800@arctour.travel
SUMMARY:RIVAGES DU MONDE - ANNECY - SOIREE
DESCRIPTION:
URL:https://arctour.travel/evenement/rivages-du-monde-annecy-soiree/
END:VEVENT
BEGIN:VEVENT
DTSTART;TZID=Europe/Paris:20251002T183000
DTEND;TZID=Europe/Paris:20251002T233000
DTSTAMP:20260422T024324
CREATED:20250721T103125Z
LAST-MODIFIED:20250721T103125Z
UID:6172-1759429800-1759447800@arctour.travel
SUMMARY:RIVAGES DU MONDE - DEJEUNER - LYON
DESCRIPTION:
URL:https://arctour.travel/evenement/rivages-du-monde-dejeuner-lyon/
END:VEVENT
END:VCALENDAR