BEGIN:VCALENDAR
VERSION:2.0
PRODID:-//Arctour.travel - ECPv6.8.3//NONSGML v1.0//EN
CALSCALE:GREGORIAN
METHOD:PUBLISH
X-ORIGINAL-URL:https://arctour.travel
X-WR-CALDESC:Évènements pour Arctour.travel
REFRESH-INTERVAL;VALUE=DURATION:PT1H
X-Robots-Tag:noindex
X-PUBLISHED-TTL:PT1H
BEGIN:VTIMEZONE
TZID:Europe/Paris
BEGIN:DAYLIGHT
TZOFFSETFROM:+0100
TZOFFSETTO:+0200
TZNAME:CEST
DTSTART:20250330T010000
END:DAYLIGHT
BEGIN:STANDARD
TZOFFSETFROM:+0200
TZOFFSETTO:+0100
TZNAME:CET
DTSTART:20251026T010000
END:STANDARD
END:VTIMEZONE
BEGIN:VEVENT
DTSTART;TZID=Europe/Paris:20251104T120000
DTEND;TZID=Europe/Paris:20251104T190000
DTSTAMP:20260422T010124
CREATED:20250210T103901Z
LAST-MODIFIED:20250210T103901Z
UID:5964-1762257600-1762282800@arctour.travel
SUMMARY:WORKSHOP ARCTOUR ANNECY
DESCRIPTION:
URL:https://arctour.travel/evenement/workshop-arctour-annecy/
END:VEVENT
BEGIN:VEVENT
DTSTART;TZID=Europe/Paris:20251104T180000
DTEND;TZID=Europe/Paris:20251104T220000
DTSTAMP:20260422T010124
CREATED:20250211T100541Z
LAST-MODIFIED:20250211T100541Z
UID:5984-1762279200-1762293600@arctour.travel
SUMMARY:PONANT & BEACHCOMBER - DIJON - SOIREE
DESCRIPTION:
URL:https://arctour.travel/evenement/ponant-beachcomber-dijon-soiree/
END:VEVENT
END:VCALENDAR