BEGIN:VCALENDAR
VERSION:2.0
PRODID:-//Arctour.travel - ECPv6.8.3//NONSGML v1.0//EN
CALSCALE:GREGORIAN
METHOD:PUBLISH
X-WR-CALNAME:Arctour.travel
X-ORIGINAL-URL:https://arctour.travel
X-WR-CALDESC:Évènements pour Arctour.travel
REFRESH-INTERVAL;VALUE=DURATION:PT1H
X-Robots-Tag:noindex
X-PUBLISHED-TTL:PT1H
BEGIN:VTIMEZONE
TZID:Europe/Paris
BEGIN:DAYLIGHT
TZOFFSETFROM:+0100
TZOFFSETTO:+0200
TZNAME:CEST
DTSTART:20250330T010000
END:DAYLIGHT
BEGIN:STANDARD
TZOFFSETFROM:+0200
TZOFFSETTO:+0100
TZNAME:CET
DTSTART:20251026T010000
END:STANDARD
END:VTIMEZONE
BEGIN:VEVENT
DTSTART;VALUE=DATE:20251119
DTEND;VALUE=DATE:20251120
DTSTAMP:20260422T005857
CREATED:20250922T075733Z
LAST-MODIFIED:20250922T075733Z
UID:6301-1763510400-1763596799@arctour.travel
SUMMARY:L'INSTANT BLEU BY PONANT / DIJON/BEAUNE
DESCRIPTION:
URL:https://arctour.travel/evenement/linstant-bleu-by-ponant-dijon-beaune/
END:VEVENT
END:VCALENDAR