BEGIN:VCALENDAR
VERSION:2.0
PRODID:-//Arctour.travel - ECPv6.8.3//NONSGML v1.0//EN
CALSCALE:GREGORIAN
METHOD:PUBLISH
X-ORIGINAL-URL:https://arctour.travel
X-WR-CALDESC:Évènements pour Arctour.travel
REFRESH-INTERVAL;VALUE=DURATION:PT1H
X-Robots-Tag:noindex
X-PUBLISHED-TTL:PT1H
BEGIN:VTIMEZONE
TZID:Europe/Paris
BEGIN:DAYLIGHT
TZOFFSETFROM:+0100
TZOFFSETTO:+0200
TZNAME:CEST
DTSTART:20260329T010000
END:DAYLIGHT
BEGIN:STANDARD
TZOFFSETFROM:+0200
TZOFFSETTO:+0100
TZNAME:CET
DTSTART:20261025T010000
END:STANDARD
END:VTIMEZONE
BEGIN:VEVENT
DTSTART;TZID=Europe/Paris:20260203T100000
DTEND;TZID=Europe/Paris:20260203T120000
DTSTAMP:20260421T200741
CREATED:20251216T080654Z
LAST-MODIFIED:20251216T080654Z
UID:6374-1770112800-1770120000@arctour.travel
SUMMARY:Beachcomber - St Etienne - Matin
DESCRIPTION:
URL:https://arctour.travel/evenement/beachcomber-st-etienne-matin/
END:VEVENT
BEGIN:VEVENT
DTSTART;TZID=Europe/Paris:20260203T180000
DTEND;TZID=Europe/Paris:20260203T230000
DTSTAMP:20260421T200741
CREATED:20250909T072430Z
LAST-MODIFIED:20250909T072430Z
UID:6280-1770141600-1770159600@arctour.travel
SUMMARY:Kuoni - Clermont Ferrand - Diner
DESCRIPTION:
URL:https://arctour.travel/evenement/kuoni-clermont-ferrand-diner/
END:VEVENT
END:VCALENDAR