BEGIN:VCALENDAR
VERSION:2.0
PRODID:-//Arctour.travel - ECPv6.8.3//NONSGML v1.0//EN
CALSCALE:GREGORIAN
METHOD:PUBLISH
X-ORIGINAL-URL:https://arctour.travel
X-WR-CALDESC:Évènements pour Arctour.travel
REFRESH-INTERVAL;VALUE=DURATION:PT1H
X-Robots-Tag:noindex
X-PUBLISHED-TTL:PT1H
BEGIN:VTIMEZONE
TZID:Europe/Paris
BEGIN:DAYLIGHT
TZOFFSETFROM:+0100
TZOFFSETTO:+0200
TZNAME:CEST
DTSTART:20260329T010000
END:DAYLIGHT
BEGIN:STANDARD
TZOFFSETFROM:+0200
TZOFFSETTO:+0100
TZNAME:CET
DTSTART:20261025T010000
END:STANDARD
END:VTIMEZONE
BEGIN:VEVENT
DTSTART;TZID=Europe/Paris:20260205T100000
DTEND;TZID=Europe/Paris:20260205T120000
DTSTAMP:20260421T200643
CREATED:20251216T080724Z
LAST-MODIFIED:20251216T080724Z
UID:6376-1770285600-1770292800@arctour.travel
SUMMARY:Beachcomber - Lyon - Matin
DESCRIPTION:
URL:https://arctour.travel/evenement/beachcomber-lyon-matin/
END:VEVENT
BEGIN:VEVENT
DTSTART;TZID=Europe/Paris:20260205T120000
DTEND;TZID=Europe/Paris:20260205T140000
DTSTAMP:20260421T200643
CREATED:20250527T112155Z
LAST-MODIFIED:20250527T112155Z
UID:6108-1770292800-1770300000@arctour.travel
SUMMARY:Climats du Monde - Annecy - Déjeuner
DESCRIPTION:
URL:https://arctour.travel/evenement/climats-du-monde-annecy-dejeuner/
END:VEVENT
BEGIN:VEVENT
DTSTART;TZID=Europe/Paris:20260205T180000
DTEND;TZID=Europe/Paris:20260205T230000
DTSTAMP:20260421T200643
CREATED:20251210T133704Z
LAST-MODIFIED:20260109T090326Z
UID:6364-1770314400-1770332400@arctour.travel
SUMMARY:O VOYAGES/MSC - St Etienne soirée
DESCRIPTION:
URL:https://arctour.travel/evenement/o-voyages-msc-st-etienne-soiree/
END:VEVENT
END:VCALENDAR