BEGIN:VCALENDAR
VERSION:2.0
PRODID:-//Arctour.travel - ECPv6.8.3//NONSGML v1.0//EN
CALSCALE:GREGORIAN
METHOD:PUBLISH
X-ORIGINAL-URL:https://arctour.travel
X-WR-CALDESC:Évènements pour Arctour.travel
REFRESH-INTERVAL;VALUE=DURATION:PT1H
X-Robots-Tag:noindex
X-PUBLISHED-TTL:PT1H
BEGIN:VTIMEZONE
TZID:Europe/Paris
BEGIN:DAYLIGHT
TZOFFSETFROM:+0100
TZOFFSETTO:+0200
TZNAME:CEST
DTSTART:20260329T010000
END:DAYLIGHT
BEGIN:STANDARD
TZOFFSETFROM:+0200
TZOFFSETTO:+0100
TZNAME:CET
DTSTART:20261025T010000
END:STANDARD
END:VTIMEZONE
BEGIN:VEVENT
DTSTART;TZID=Europe/Paris:20260326T120000
DTEND;TZID=Europe/Paris:20260326T140000
DTSTAMP:20260421T184941
CREATED:20260203T080636Z
LAST-MODIFIED:20260203T080636Z
UID:6434-1774526400-1774533600@arctour.travel
SUMMARY:BEACHCOMBER - ST ETIENNE - DEJEUNER
DESCRIPTION:
URL:https://arctour.travel/evenement/beachcomber-st-etienne-dejeuner/
END:VEVENT
END:VCALENDAR