BEGIN:VCALENDAR
VERSION:2.0
PRODID:-//Arctour.travel - ECPv6.8.3//NONSGML v1.0//EN
CALSCALE:GREGORIAN
METHOD:PUBLISH
X-WR-CALNAME:Arctour.travel
X-ORIGINAL-URL:https://arctour.travel
X-WR-CALDESC:Évènements pour Arctour.travel
REFRESH-INTERVAL;VALUE=DURATION:PT1H
X-Robots-Tag:noindex
X-PUBLISHED-TTL:PT1H
BEGIN:VTIMEZONE
TZID:Europe/Paris
BEGIN:DAYLIGHT
TZOFFSETFROM:+0100
TZOFFSETTO:+0200
TZNAME:CEST
DTSTART:20260329T010000
END:DAYLIGHT
BEGIN:STANDARD
TZOFFSETFROM:+0200
TZOFFSETTO:+0100
TZNAME:CET
DTSTART:20261025T010000
END:STANDARD
END:VTIMEZONE
BEGIN:VEVENT
DTSTART;TZID=Europe/Paris:20260331T120000
DTEND;TZID=Europe/Paris:20260331T140000
DTSTAMP:20260421T171919
CREATED:20260203T080703Z
LAST-MODIFIED:20260203T080703Z
UID:6436-1774958400-1774965600@arctour.travel
SUMMARY:BEACHCOMBER - LYON - DEJEUNER
DESCRIPTION:
URL:https://arctour.travel/evenement/beachcomber-lyon-dejeuner/
END:VEVENT
BEGIN:VEVENT
DTSTART;TZID=Europe/Paris:20260331T180000
DTEND;TZID=Europe/Paris:20260331T220000
DTSTAMP:20260421T171919
CREATED:20260303T110124Z
LAST-MODIFIED:20260303T110124Z
UID:6488-1774980000-1774994400@arctour.travel
SUMMARY:VOYAMAR - ST ETIENNE - SOIREE
DESCRIPTION:
URL:https://arctour.travel/evenement/voyamar-st-etienne-soiree/
END:VEVENT
END:VCALENDAR