BEGIN:VCALENDAR
VERSION:2.0
PRODID:-//Arctour.travel - ECPv6.8.3//NONSGML v1.0//EN
CALSCALE:GREGORIAN
METHOD:PUBLISH
X-ORIGINAL-URL:https://arctour.travel
X-WR-CALDESC:Évènements pour Arctour.travel
REFRESH-INTERVAL;VALUE=DURATION:PT1H
X-Robots-Tag:noindex
X-PUBLISHED-TTL:PT1H
BEGIN:VTIMEZONE
TZID:Europe/Paris
BEGIN:DAYLIGHT
TZOFFSETFROM:+0100
TZOFFSETTO:+0200
TZNAME:CEST
DTSTART:20260329T010000
END:DAYLIGHT
BEGIN:STANDARD
TZOFFSETFROM:+0200
TZOFFSETTO:+0100
TZNAME:CET
DTSTART:20261025T010000
END:STANDARD
END:VTIMEZONE
BEGIN:VEVENT
DTSTART;TZID=Europe/Paris:20260604T180000
DTEND;TZID=Europe/Paris:20260604T230000
DTSTAMP:20260421T201551
CREATED:20251124T130133Z
LAST-MODIFIED:20251124T130133Z
UID:6329-1780596000-1780614000@arctour.travel
SUMMARY:AUSTRAL LAGONS - LYON - SOIREE
DESCRIPTION:
URL:https://arctour.travel/evenement/austral-lagons-lyon-soiree-2/
END:VEVENT
END:VCALENDAR