BEGIN:VCALENDAR
VERSION:2.0
PRODID:-//Arctour.travel - ECPv6.8.3//NONSGML v1.0//EN
CALSCALE:GREGORIAN
METHOD:PUBLISH
X-ORIGINAL-URL:https://arctour.travel
X-WR-CALDESC:Évènements pour Arctour.travel
REFRESH-INTERVAL;VALUE=DURATION:PT1H
X-Robots-Tag:noindex
X-PUBLISHED-TTL:PT1H
BEGIN:VTIMEZONE
TZID:Europe/Paris
BEGIN:DAYLIGHT
TZOFFSETFROM:+0100
TZOFFSETTO:+0200
TZNAME:CEST
DTSTART:20260329T010000
END:DAYLIGHT
BEGIN:STANDARD
TZOFFSETFROM:+0200
TZOFFSETTO:+0100
TZNAME:CET
DTSTART:20261025T010000
END:STANDARD
END:VTIMEZONE
BEGIN:VEVENT
DTSTART;TZID=Europe/Paris:20260611T180000
DTEND;TZID=Europe/Paris:20260611T223000
DTSTAMP:20260421T200554
CREATED:20251216T081009Z
LAST-MODIFIED:20260203T080808Z
UID:6380-1781200800-1781217000@arctour.travel
SUMMARY:BEACHCOMBER - VALENCE - SOIREE
DESCRIPTION:
URL:https://arctour.travel/evenement/beachcomber-valence-apres-midi/
END:VEVENT
BEGIN:VEVENT
DTSTART;TZID=Europe/Paris:20260611T180000
DTEND;TZID=Europe/Paris:20260611T230000
DTSTAMP:20260421T200554
CREATED:20260408T083846Z
LAST-MODIFIED:20260408T083939Z
UID:6513-1781200800-1781218800@arctour.travel
SUMMARY:SOIREE ROADSHOW - COSTA - SAINT ETIENNE
DESCRIPTION:
URL:https://arctour.travel/evenement/soiree-roadshow-costa-saint-etienne/
END:VEVENT
END:VCALENDAR