BEGIN:VCALENDAR
VERSION:2.0
PRODID:-//Arctour.travel - ECPv6.8.3//NONSGML v1.0//EN
CALSCALE:GREGORIAN
METHOD:PUBLISH
X-ORIGINAL-URL:https://arctour.travel
X-WR-CALDESC:Évènements pour Arctour.travel
REFRESH-INTERVAL;VALUE=DURATION:PT1H
X-Robots-Tag:noindex
X-PUBLISHED-TTL:PT1H
BEGIN:VTIMEZONE
TZID:Europe/Paris
BEGIN:DAYLIGHT
TZOFFSETFROM:+0100
TZOFFSETTO:+0200
TZNAME:CEST
DTSTART:20260329T010000
END:DAYLIGHT
BEGIN:STANDARD
TZOFFSETFROM:+0200
TZOFFSETTO:+0100
TZNAME:CET
DTSTART:20261025T010000
END:STANDARD
END:VTIMEZONE
BEGIN:VEVENT
DTSTART;TZID=Europe/Paris:20260924T120000
DTEND;TZID=Europe/Paris:20260924T220000
DTSTAMP:20260421T232420
CREATED:20260408T075852Z
LAST-MODIFIED:20260408T085916Z
UID:6511-1790251200-1790287200@arctour.travel
SUMMARY:DEJ ou SOIREE - SOLEA - CHALONS / SAONE
DESCRIPTION:
URL:https://arctour.travel/evenement/dej-ou-soiree-solea/
END:VEVENT
BEGIN:VEVENT
DTSTART;TZID=Europe/Paris:20260924T180000
DTEND;TZID=Europe/Paris:20260924T220000
DTSTAMP:20260421T232420
CREATED:20260303T102838Z
LAST-MODIFIED:20260303T102838Z
UID:6486-1790272800-1790287200@arctour.travel
SUMMARY:EXOTISMES - ANNECY - SOIREE
DESCRIPTION:
URL:https://arctour.travel/evenement/exotismes-annecy-soiree-3/
END:VEVENT
END:VCALENDAR