BEGIN:VCALENDAR
VERSION:2.0
PRODID:-//Arctour.travel - ECPv6.8.3//NONSGML v1.0//EN
CALSCALE:GREGORIAN
METHOD:PUBLISH
X-ORIGINAL-URL:https://arctour.travel
X-WR-CALDESC:Évènements pour Arctour.travel
REFRESH-INTERVAL;VALUE=DURATION:PT1H
X-Robots-Tag:noindex
X-PUBLISHED-TTL:PT1H
BEGIN:VTIMEZONE
TZID:Europe/Paris
BEGIN:DAYLIGHT
TZOFFSETFROM:+0100
TZOFFSETTO:+0200
TZNAME:CEST
DTSTART:20260329T010000
END:DAYLIGHT
BEGIN:STANDARD
TZOFFSETFROM:+0200
TZOFFSETTO:+0100
TZNAME:CET
DTSTART:20261025T010000
END:STANDARD
END:VTIMEZONE
BEGIN:VEVENT
DTSTART;TZID=Europe/Paris:20261014T120000
DTEND;TZID=Europe/Paris:20261014T140000
DTSTAMP:20260422T010959
CREATED:20260307T094328Z
LAST-MODIFIED:20260307T094328Z
UID:6497-1791979200-1791986400@arctour.travel
SUMMARY:AUSTRAL LAGONS - CHAMBERY - DEJEUNER
DESCRIPTION:
URL:https://arctour.travel/evenement/austral-lagons-chambery-dejeuner/
END:VEVENT
BEGIN:VEVENT
DTSTART;TZID=Europe/Paris:20261014T180000
DTEND;TZID=Europe/Paris:20261014T223000
DTSTAMP:20260422T010959
CREATED:20260307T094358Z
LAST-MODIFIED:20260307T094358Z
UID:6499-1792000800-1792017000@arctour.travel
SUMMARY:AUSTRAL LAGONS - LYON - SOIREE
DESCRIPTION:
URL:https://arctour.travel/evenement/austral-lagons-lyon-soiree-3/
END:VEVENT
END:VCALENDAR