BEGIN:VCALENDAR
VERSION:2.0
PRODID:-//Arctour.travel - ECPv6.8.3//NONSGML v1.0//EN
CALSCALE:GREGORIAN
METHOD:PUBLISH
X-WR-CALNAME:Arctour.travel
X-ORIGINAL-URL:https://arctour.travel
X-WR-CALDESC:Évènements pour Arctour.travel
REFRESH-INTERVAL;VALUE=DURATION:PT1H
X-Robots-Tag:noindex
X-PUBLISHED-TTL:PT1H
BEGIN:VTIMEZONE
TZID:Europe/Paris
BEGIN:DAYLIGHT
TZOFFSETFROM:+0100
TZOFFSETTO:+0200
TZNAME:CEST
DTSTART:20260329T010000
END:DAYLIGHT
BEGIN:STANDARD
TZOFFSETFROM:+0200
TZOFFSETTO:+0100
TZNAME:CET
DTSTART:20261025T010000
END:STANDARD
BEGIN:DAYLIGHT
TZOFFSETFROM:+0100
TZOFFSETTO:+0200
TZNAME:CEST
DTSTART:20270328T010000
END:DAYLIGHT
BEGIN:STANDARD
TZOFFSETFROM:+0200
TZOFFSETTO:+0100
TZNAME:CET
DTSTART:20271031T010000
END:STANDARD
END:VTIMEZONE
BEGIN:VEVENT
DTSTART;TZID=Europe/Paris:20260623T180000
DTEND;TZID=Europe/Paris:20260623T223000
DTSTAMP:20260421T183743
CREATED:20260307T094101Z
LAST-MODIFIED:20260307T094101Z
UID:6492-1782237600-1782253800@arctour.travel
SUMMARY:AUSTRAL LAGONS - ANNECY - SOIREE
DESCRIPTION:
URL:https://arctour.travel/evenement/austral-lagons-annecy-soiree/
END:VEVENT
BEGIN:VEVENT
DTSTART;TZID=Europe/Paris:20260625T170000
DTEND;TZID=Europe/Paris:20260625T233000
DTSTAMP:20260421T183743
CREATED:20260119T142209Z
LAST-MODIFIED:20260119T142209Z
UID:6409-1782406800-1782430200@arctour.travel
SUMMARY:SOIREE FESTIVE ARCTOUR LYON
DESCRIPTION:
URL:https://arctour.travel/evenement/soiree-festive-arctour-lyon/
END:VEVENT
BEGIN:VEVENT
DTSTART;TZID=Europe/Paris:20260908T180000
DTEND;TZID=Europe/Paris:20260908T230000
DTSTAMP:20260421T183743
CREATED:20260408T084532Z
LAST-MODIFIED:20260417T074956Z
UID:6516-1788890400-1788908400@arctour.travel
SUMMARY:KUONI - LYON - SOIREE
DESCRIPTION:
URL:https://arctour.travel/evenement/kuoni-lyon-soiree-possible-a-reconfirmer/
END:VEVENT
BEGIN:VEVENT
DTSTART;VALUE=DATE:20260910
DTEND;VALUE=DATE:20260911
DTSTAMP:20260421T183743
CREATED:20251230T132719Z
LAST-MODIFIED:20251230T132719Z
UID:6384-1788998400-1789084799@arctour.travel
SUMMARY:WORKSHOP ARCTOUR DIJON
DESCRIPTION:
URL:https://arctour.travel/evenement/workshop-arctour-dijon/
END:VEVENT
BEGIN:VEVENT
DTSTART;TZID=Europe/Paris:20260922T180000
DTEND;TZID=Europe/Paris:20260922T220000
DTSTAMP:20260421T183743
CREATED:20260303T102806Z
LAST-MODIFIED:20260303T102806Z
UID:6484-1790100000-1790114400@arctour.travel
SUMMARY:EXOTISMES - LYON - SOIREE
DESCRIPTION:
URL:https://arctour.travel/evenement/exotismes-lyon-soiree-3/
END:VEVENT
BEGIN:VEVENT
DTSTART;TZID=Europe/Paris:20260924T120000
DTEND;TZID=Europe/Paris:20260924T220000
DTSTAMP:20260421T183743
CREATED:20260408T075852Z
LAST-MODIFIED:20260408T085916Z
UID:6511-1790251200-1790287200@arctour.travel
SUMMARY:DEJ ou SOIREE - SOLEA - CHALONS / SAONE
DESCRIPTION:
URL:https://arctour.travel/evenement/dej-ou-soiree-solea/
END:VEVENT
BEGIN:VEVENT
DTSTART;TZID=Europe/Paris:20260924T180000
DTEND;TZID=Europe/Paris:20260924T220000
DTSTAMP:20260421T183743
CREATED:20260303T102838Z
LAST-MODIFIED:20260303T102838Z
UID:6486-1790272800-1790287200@arctour.travel
SUMMARY:EXOTISMES - ANNECY - SOIREE
DESCRIPTION:
URL:https://arctour.travel/evenement/exotismes-annecy-soiree-3/
END:VEVENT
BEGIN:VEVENT
DTSTART;TZID=Europe/Paris:20260929T180000
DTEND;TZID=Europe/Paris:20260929T213000
DTSTAMP:20260421T183743
CREATED:20251215T075232Z
LAST-MODIFIED:20251215T075232Z
UID:6368-1790704800-1790717400@arctour.travel
SUMMARY:LYON - ROADSHOW SOLEA - SOIREE
DESCRIPTION:
URL:https://arctour.travel/evenement/lyon-roadshow-solea-soiree/
END:VEVENT
BEGIN:VEVENT
DTSTART;TZID=Europe/Paris:20261001T180000
DTEND;TZID=Europe/Paris:20261001T213000
DTSTAMP:20260421T183743
CREATED:20251215T075259Z
LAST-MODIFIED:20251215T075259Z
UID:6370-1790877600-1790890200@arctour.travel
SUMMARY:ST ETIENNE - ROADSHOW SOLEA - SOIREE
DESCRIPTION:
URL:https://arctour.travel/evenement/st-etienne-roadshow-solea-soiree/
END:VEVENT
BEGIN:VEVENT
DTSTART;TZID=Europe/Paris:20261013T180000
DTEND;TZID=Europe/Paris:20261013T223000
DTSTAMP:20260421T183743
CREATED:20260307T094251Z
LAST-MODIFIED:20260307T094251Z
UID:6495-1791914400-1791930600@arctour.travel
SUMMARY:AUSTRAL LAGONS - ANNECY - SOIREE
DESCRIPTION:
URL:https://arctour.travel/evenement/austral-lagons-annecy-soiree-2/
END:VEVENT
BEGIN:VEVENT
DTSTART;TZID=Europe/Paris:20261014T120000
DTEND;TZID=Europe/Paris:20261014T140000
DTSTAMP:20260421T183743
CREATED:20260307T094328Z
LAST-MODIFIED:20260307T094328Z
UID:6497-1791979200-1791986400@arctour.travel
SUMMARY:AUSTRAL LAGONS - CHAMBERY - DEJEUNER
DESCRIPTION:
URL:https://arctour.travel/evenement/austral-lagons-chambery-dejeuner/
END:VEVENT
BEGIN:VEVENT
DTSTART;TZID=Europe/Paris:20261014T180000
DTEND;TZID=Europe/Paris:20261014T223000
DTSTAMP:20260421T183743
CREATED:20260307T094358Z
LAST-MODIFIED:20260307T094358Z
UID:6499-1792000800-1792017000@arctour.travel
SUMMARY:AUSTRAL LAGONS - LYON - SOIREE
DESCRIPTION:
URL:https://arctour.travel/evenement/austral-lagons-lyon-soiree-3/
END:VEVENT
BEGIN:VEVENT
DTSTART;TZID=Europe/Paris:20261015T180000
DTEND;TZID=Europe/Paris:20261015T223000
DTSTAMP:20260421T183743
CREATED:20260203T081006Z
LAST-MODIFIED:20260203T081006Z
UID:6443-1792087200-1792103400@arctour.travel
SUMMARY:VISITEURS - GRENOBLE - SOIREE
DESCRIPTION:
URL:https://arctour.travel/evenement/visiteurs-grenoble-soiree-2/
END:VEVENT
BEGIN:VEVENT
DTSTART;TZID=Europe/Paris:20261015T180000
DTEND;TZID=Europe/Paris:20261015T223000
DTSTAMP:20260421T183743
CREATED:20260307T094615Z
LAST-MODIFIED:20260307T094615Z
UID:6501-1792087200-1792103400@arctour.travel
SUMMARY:AUSTRAL LAGONS - VALENCE - SOIREE
DESCRIPTION:
URL:https://arctour.travel/evenement/austral-lagons-valence-soiree/
END:VEVENT
BEGIN:VEVENT
DTSTART;TZID=Europe/Paris:20261105T180000
DTEND;TZID=Europe/Paris:20261105T230000
DTSTAMP:20260421T183743
CREATED:20260409T095218Z
LAST-MODIFIED:20260409T095218Z
UID:6520-1793901600-1793919600@arctour.travel
SUMMARY:SOIREE OT CORSE - LYON
DESCRIPTION:
URL:https://arctour.travel/evenement/soiree-ot-corse-lyon/
END:VEVENT
BEGIN:VEVENT
DTSTART;TZID=Europe/Paris:20261119T180000
DTEND;TZID=Europe/Paris:20261119T223000
DTSTAMP:20260421T183743
CREATED:20260203T080940Z
LAST-MODIFIED:20260227T183029Z
UID:6441-1795111200-1795127400@arctour.travel
SUMMARY:VISITEURS - LYON - SOIREE
DESCRIPTION:
URL:https://arctour.travel/evenement/visiteurs-lyon-soiree-2/
END:VEVENT
BEGIN:VEVENT
DTSTART;TZID=Europe/Paris:20261201T120000
DTEND;TZID=Europe/Paris:20261201T140000
DTSTAMP:20260421T183743
CREATED:20260224T174456Z
LAST-MODIFIED:20260224T174456Z
UID:6470-1796126400-1796133600@arctour.travel
SUMMARY:ASIA - ST ETIENNE - DEJEUNER
DESCRIPTION:
URL:https://arctour.travel/evenement/asia-st-etienne-dejeuner-2/
END:VEVENT
BEGIN:VEVENT
DTSTART;TZID=Europe/Paris:20261201T180000
DTEND;TZID=Europe/Paris:20261201T220000
DTSTAMP:20260421T183743
CREATED:20260224T174539Z
LAST-MODIFIED:20260224T174539Z
UID:6472-1796148000-1796162400@arctour.travel
SUMMARY:ASIA - LYON - DINER
DESCRIPTION:
URL:https://arctour.travel/evenement/asia-lyon-diner/
END:VEVENT
BEGIN:VEVENT
DTSTART;TZID=Europe/Paris:20261203T180000
DTEND;TZID=Europe/Paris:20261203T220000
DTSTAMP:20260421T183743
CREATED:20260224T174604Z
LAST-MODIFIED:20260224T174604Z
UID:6474-1796320800-1796335200@arctour.travel
SUMMARY:ASIA - VALENCE - DINER
DESCRIPTION:
URL:https://arctour.travel/evenement/asia-valence-diner/
END:VEVENT
BEGIN:VEVENT
DTSTART;TZID=Europe/Paris:20270126T180000
DTEND;TZID=Europe/Paris:20270126T230000
DTSTAMP:20260421T183743
CREATED:20260409T095528Z
LAST-MODIFIED:20260409T095528Z
UID:6522-1800986400-1801004400@arctour.travel
SUMMARY:VOYAMAR - CLERMONT - SOIREE
DESCRIPTION:
URL:https://arctour.travel/evenement/voyamar-clermont-soiree/
END:VEVENT
BEGIN:VEVENT
DTSTART;TZID=Europe/Paris:20270128T120000
DTEND;TZID=Europe/Paris:20270128T140000
DTSTAMP:20260421T183743
CREATED:20260409T095555Z
LAST-MODIFIED:20260409T095555Z
UID:6524-1801137600-1801144800@arctour.travel
SUMMARY:VOYAMAR - ROANNE - DEJEUNER
DESCRIPTION:
URL:https://arctour.travel/evenement/voyamar-roanne-dejeuner/
END:VEVENT
BEGIN:VEVENT
DTSTART;TZID=Europe/Paris:20270518T180000
DTEND;TZID=Europe/Paris:20270518T220000
DTSTAMP:20260421T183743
CREATED:20260224T174636Z
LAST-MODIFIED:20260224T174636Z
UID:6476-1810663200-1810677600@arctour.travel
SUMMARY:ASIA - LYON - DINER
DESCRIPTION:
URL:https://arctour.travel/evenement/asia-lyon-diner-2/
END:VEVENT
BEGIN:VEVENT
DTSTART;TZID=Europe/Paris:20270520T180000
DTEND;TZID=Europe/Paris:20270520T220000
DTSTAMP:20260421T183743
CREATED:20260224T174702Z
LAST-MODIFIED:20260224T174702Z
UID:6478-1810836000-1810850400@arctour.travel
SUMMARY:ASIA - GRENOBLE - DINER
DESCRIPTION:
URL:https://arctour.travel/evenement/asia-grenoble-diner/
END:VEVENT
END:VCALENDAR