BEGIN:VCALENDAR
VERSION:2.0
PRODID:-//Arctour.travel - ECPv6.8.3//NONSGML v1.0//EN
CALSCALE:GREGORIAN
METHOD:PUBLISH
X-WR-CALNAME:Arctour.travel
X-ORIGINAL-URL:https://arctour.travel
X-WR-CALDESC:Évènements pour Arctour.travel
REFRESH-INTERVAL;VALUE=DURATION:PT1H
X-Robots-Tag:noindex
X-PUBLISHED-TTL:PT1H
BEGIN:VTIMEZONE
TZID:Europe/Paris
BEGIN:DAYLIGHT
TZOFFSETFROM:+0100
TZOFFSETTO:+0200
TZNAME:CEST
DTSTART:20250330T010000
END:DAYLIGHT
BEGIN:STANDARD
TZOFFSETFROM:+0200
TZOFFSETTO:+0100
TZNAME:CET
DTSTART:20251026T010000
END:STANDARD
END:VTIMEZONE
BEGIN:VEVENT
DTSTART;TZID=Europe/Paris:20250605T180000
DTEND;TZID=Europe/Paris:20250605T220000
DTSTAMP:20260422T080719
CREATED:20250221T164338Z
LAST-MODIFIED:20250221T164338Z
UID:6009-1749146400-1749160800@arctour.travel
SUMMARY:Austral Lagons - Lyon - soirée
DESCRIPTION:
URL:https://arctour.travel/evenement/austral-lagons-lyon-soiree/
END:VEVENT
BEGIN:VEVENT
DTSTART;TZID=Europe/Paris:20250617T180000
DTEND;TZID=Europe/Paris:20250617T230000
DTSTAMP:20260422T080719
CREATED:20250610T072832Z
LAST-MODIFIED:20250610T072832Z
UID:6124-1750183200-1750201200@arctour.travel
SUMMARY:Quartier Libre / Resaneo - LYON - SOIREE
DESCRIPTION:
URL:https://arctour.travel/evenement/quartier-libre-resaneo-lyon-soiree/
LOCATION:LYON
END:VEVENT
BEGIN:VEVENT
DTSTART;VALUE=DATE:20250619
DTEND;VALUE=DATE:20250620
DTSTAMP:20260422T080719
CREATED:20250212T091417Z
LAST-MODIFIED:20250212T091417Z
UID:5999-1750291200-1750377599@arctour.travel
SUMMARY:OT Abu Dhabi - Lyon - Workshop
DESCRIPTION:
URL:https://arctour.travel/evenement/ot-abu-dhabi-lyon-workshop/
END:VEVENT
BEGIN:VEVENT
DTSTART;TZID=Europe/Paris:20250624T180000
DTEND;TZID=Europe/Paris:20250624T223000
DTSTAMP:20260422T080719
CREATED:20241202T164050Z
LAST-MODIFIED:20250113T123851Z
UID:5845-1750788000-1750804200@arctour.travel
SUMMARY:KUONI - LYON - SOIREE
DESCRIPTION:
URL:https://arctour.travel/evenement/kuoni-lyon-soiree-3/
END:VEVENT
BEGIN:VEVENT
DTSTART;TZID=Europe/Paris:20250626T183000
DTEND;TZID=Europe/Paris:20250626T223000
DTSTAMP:20260422T080719
CREATED:20250326T073955Z
LAST-MODIFIED:20250326T073955Z
UID:6067-1750962600-1750977000@arctour.travel
SUMMARY:HELIADES - LYON - SOIREE
DESCRIPTION:
URL:https://arctour.travel/evenement/heliades-lyon-soiree/
END:VEVENT
END:VCALENDAR