BEGIN:VCALENDAR
VERSION:2.0
PRODID:-//Arctour.travel - ECPv6.8.3//NONSGML v1.0//EN
CALSCALE:GREGORIAN
METHOD:PUBLISH
X-WR-CALNAME:Arctour.travel
X-ORIGINAL-URL:https://arctour.travel
X-WR-CALDESC:Évènements pour Arctour.travel
REFRESH-INTERVAL;VALUE=DURATION:PT1H
X-Robots-Tag:noindex
X-PUBLISHED-TTL:PT1H
BEGIN:VTIMEZONE
TZID:Europe/Paris
BEGIN:DAYLIGHT
TZOFFSETFROM:+0100
TZOFFSETTO:+0200
TZNAME:CEST
DTSTART:20250330T010000
END:DAYLIGHT
BEGIN:STANDARD
TZOFFSETFROM:+0200
TZOFFSETTO:+0100
TZNAME:CET
DTSTART:20251026T010000
END:STANDARD
END:VTIMEZONE
BEGIN:VEVENT
DTSTART;TZID=Europe/Paris:20250909T183000
DTEND;TZID=Europe/Paris:20250909T223000
DTSTAMP:20260422T024747
CREATED:20250326T074232Z
LAST-MODIFIED:20250326T074232Z
UID:6071-1757442600-1757457000@arctour.travel
SUMMARY:VOYAMAR & HELIADES - ST ETIENNE - SOIREE
DESCRIPTION:
URL:https://arctour.travel/evenement/voyamar-heliades-st-etienne-soiree/
END:VEVENT
BEGIN:VEVENT
DTSTART;TZID=Europe/Paris:20250909T183000
DTEND;TZID=Europe/Paris:20250909T233000
DTSTAMP:20260422T024747
CREATED:20250721T100114Z
LAST-MODIFIED:20250721T100114Z
UID:6164-1757442600-1757460600@arctour.travel
SUMMARY:RIVAGES DU MONDE - MACON - SOIREE
DESCRIPTION:
URL:https://arctour.travel/evenement/rivages-du-monde-macon-soiree-2/
END:VEVENT
BEGIN:VEVENT
DTSTART;TZID=Europe/Paris:20250909T190000
DTEND;TZID=Europe/Paris:20250909T230000
DTSTAMP:20260422T024747
CREATED:20250212T091026Z
LAST-MODIFIED:20250212T091026Z
UID:5995-1757444400-1757458800@arctour.travel
SUMMARY:EXOTISMES - ANNECY - SOIREE
DESCRIPTION:
URL:https://arctour.travel/evenement/exotismes-annecy-soiree-2/
END:VEVENT
BEGIN:VEVENT
DTSTART;TZID=Europe/Paris:20250911T120000
DTEND;TZID=Europe/Paris:20250911T140000
DTSTAMP:20260422T024747
CREATED:20250612T092631Z
LAST-MODIFIED:20250612T092631Z
UID:6126-1757592000-1757599200@arctour.travel
SUMMARY:VOYAMAR - DIJON - DEJEUNER
DESCRIPTION:En partenariat avec l’OT MARTINIQUE
URL:https://arctour.travel/evenement/voyamar-dijon-dejeuner/
END:VEVENT
BEGIN:VEVENT
DTSTART;TZID=Europe/Paris:20250911T190000
DTEND;TZID=Europe/Paris:20250911T230000
DTSTAMP:20260422T024747
CREATED:20250212T091121Z
LAST-MODIFIED:20250212T091121Z
UID:5997-1757617200-1757631600@arctour.travel
SUMMARY:EXOTISMES - LYON - SOIREE
DESCRIPTION:
URL:https://arctour.travel/evenement/exotismes-lyon-soiree-2/
END:VEVENT
BEGIN:VEVENT
DTSTART;VALUE=DATE:20250916
DTEND;VALUE=DATE:20250917
DTSTAMP:20260422T024747
CREATED:20241106T101555Z
LAST-MODIFIED:20241106T101555Z
UID:5800-1757980800-1758067199@arctour.travel
SUMMARY:SOLEA - ANNECY - WORKSHOP
DESCRIPTION:
URL:https://arctour.travel/evenement/solea-annecy-workshop/
END:VEVENT
BEGIN:VEVENT
DTSTART;TZID=Europe/Paris:20250916T183000
DTEND;TZID=Europe/Paris:20250916T230000
DTSTAMP:20260422T024747
CREATED:20250422T125418Z
LAST-MODIFIED:20250422T125418Z
UID:6088-1758047400-1758063600@arctour.travel
SUMMARY:VOYAMAR & HELIADES - CLERMONT - SOIREE
DESCRIPTION:
URL:https://arctour.travel/evenement/voyamar-heliades-clermont-soiree/
END:VEVENT
BEGIN:VEVENT
DTSTART;TZID=Europe/Paris:20250916T183000
DTEND;TZID=Europe/Paris:20250916T233000
DTSTAMP:20260422T024747
CREATED:20250721T091808Z
LAST-MODIFIED:20250721T100001Z
UID:6161-1758047400-1758065400@arctour.travel
SUMMARY:RIVAGES DU MONDE - DIJON - SOIREE
DESCRIPTION:
URL:https://arctour.travel/evenement/rivages-du-monde-macon-soiree/
END:VEVENT
BEGIN:VEVENT
DTSTART;TZID=Europe/Paris:20250918T183000
DTEND;TZID=Europe/Paris:20250918T223000
DTSTAMP:20260422T024747
CREATED:20250326T074148Z
LAST-MODIFIED:20250326T074148Z
UID:6069-1758220200-1758234600@arctour.travel
SUMMARY:VOYAMAR & HELIADES - ANNECY - SOIREE
DESCRIPTION:
URL:https://arctour.travel/evenement/voyamar-heliades-annecy-soiree/
END:VEVENT
BEGIN:VEVENT
DTSTART;TZID=Europe/Paris:20250918T183000
DTEND;TZID=Europe/Paris:20250918T230000
DTSTAMP:20260422T024747
CREATED:20250725T144259Z
LAST-MODIFIED:20250725T144259Z
UID:6234-1758220200-1758236400@arctour.travel
SUMMARY:TUI - CLERMONT FERRAND - DINER
DESCRIPTION:
URL:https://arctour.travel/evenement/tui-clermont-ferrand-diner/
END:VEVENT
BEGIN:VEVENT
DTSTART;TZID=Europe/Paris:20250918T183000
DTEND;TZID=Europe/Paris:20250918T233000
DTSTAMP:20260422T024747
CREATED:20250721T100157Z
LAST-MODIFIED:20250721T100157Z
UID:6166-1758220200-1758238200@arctour.travel
SUMMARY:RIVAGES DU MONDE - SAINT ETIENNE - SOIREE
DESCRIPTION:
URL:https://arctour.travel/evenement/rivages-du-monde-saint-etienne-soiree/
END:VEVENT
BEGIN:VEVENT
DTSTART;TZID=Europe/Paris:20250923T080000
DTEND;TZID=Europe/Paris:20250923T170000
DTSTAMP:20260422T024747
CREATED:20250326T074320Z
LAST-MODIFIED:20250326T074320Z
UID:6073-1758614400-1758646800@arctour.travel
SUMMARY:VOYAMAR & HELIADES - BOURG/MACON - SOIREE
DESCRIPTION:
URL:https://arctour.travel/evenement/voyamar-heliades-bourg-macon-soiree/
END:VEVENT
BEGIN:VEVENT
DTSTART;TZID=Europe/Paris:20250923T120000
DTEND;TZID=Europe/Paris:20250923T140000
DTSTAMP:20260422T024747
CREATED:20250828T152603Z
LAST-MODIFIED:20250828T152603Z
UID:6258-1758628800-1758636000@arctour.travel
SUMMARY:CROISIEUROPE - ANNECY - DEJEUNER
DESCRIPTION:
URL:https://arctour.travel/evenement/croisieurope-annecy-dejeuner/
END:VEVENT
BEGIN:VEVENT
DTSTART;TZID=Europe/Paris:20250925T180000
DTEND;TZID=Europe/Paris:20250925T220000
DTSTAMP:20260422T024747
CREATED:20250211T100259Z
LAST-MODIFIED:20250211T100259Z
UID:5980-1758823200-1758837600@arctour.travel
SUMMARY:PONANT & BEACHCOMBER - LYON - SOIREE
DESCRIPTION:
URL:https://arctour.travel/evenement/ponant-beachcomber-lyon-soiree-2/
END:VEVENT
BEGIN:VEVENT
DTSTART;TZID=Europe/Paris:20250925T183000
DTEND;TZID=Europe/Paris:20250925T233000
DTSTAMP:20260422T024747
CREATED:20250725T144347Z
LAST-MODIFIED:20250725T144347Z
UID:6236-1758825000-1758843000@arctour.travel
SUMMARY:TUI - DIJON - DINER
DESCRIPTION:
URL:https://arctour.travel/evenement/tui-dijon-diner-2/
END:VEVENT
BEGIN:VEVENT
DTSTART;TZID=Europe/Paris:20250930T120000
DTEND;TZID=Europe/Paris:20250930T140000
DTSTAMP:20260422T024747
CREATED:20250725T144429Z
LAST-MODIFIED:20250725T144429Z
UID:6238-1759233600-1759240800@arctour.travel
SUMMARY:TUI - BOURG EN BRESSE - DEJEUNER
DESCRIPTION:
URL:https://arctour.travel/evenement/tui-bourg-en-bresse-dejeuner-3/
END:VEVENT
BEGIN:VEVENT
DTSTART;TZID=Europe/Paris:20250930T120000
DTEND;TZID=Europe/Paris:20250930T140000
DTSTAMP:20260422T024747
CREATED:20250725T144512Z
LAST-MODIFIED:20250725T144512Z
UID:6240-1759233600-1759240800@arctour.travel
SUMMARY:TUI - SAINT ETIENNE - DINER
DESCRIPTION:
URL:https://arctour.travel/evenement/tui-saint-etienne-diner/
END:VEVENT
BEGIN:VEVENT
DTSTART;TZID=Europe/Paris:20250930T183000
DTEND;TZID=Europe/Paris:20250930T233000
DTSTAMP:20260422T024747
CREATED:20250721T100230Z
LAST-MODIFIED:20250721T100230Z
UID:6168-1759257000-1759275000@arctour.travel
SUMMARY:RIVAGES DU MONDE - GRENOBLE - SOIREE
DESCRIPTION:
URL:https://arctour.travel/evenement/rivages-du-monde-grenoble-soiree/
END:VEVENT
BEGIN:VEVENT
DTSTART;TZID=Europe/Paris:20250930T193000
DTEND;TZID=Europe/Paris:20250930T233000
DTSTAMP:20260422T024747
CREATED:20250725T144552Z
LAST-MODIFIED:20250725T144642Z
UID:6242-1759260600-1759275000@arctour.travel
SUMMARY:TUI - SAINT ETIENNE - DINER
DESCRIPTION:
URL:https://arctour.travel/evenement/tui-chalon-sur-saone-dejeuner/
END:VEVENT
BEGIN:VEVENT
DTSTART;TZID=Europe/Paris:20250930T200000
DTEND;TZID=Europe/Paris:20250930T230000
DTSTAMP:20260422T024747
CREATED:20241106T101941Z
LAST-MODIFIED:20241106T101941Z
UID:5806-1759262400-1759273200@arctour.travel
SUMMARY:SOLEA - MACON - DINER
DESCRIPTION:
URL:https://arctour.travel/evenement/solea-macon-diner/
END:VEVENT
END:VCALENDAR