BEGIN:VCALENDAR
VERSION:2.0
PRODID:-//Arctour.travel - ECPv6.8.3//NONSGML v1.0//EN
CALSCALE:GREGORIAN
METHOD:PUBLISH
X-ORIGINAL-URL:https://arctour.travel
X-WR-CALDESC:Évènements pour Arctour.travel
REFRESH-INTERVAL;VALUE=DURATION:PT1H
X-Robots-Tag:noindex
X-PUBLISHED-TTL:PT1H
BEGIN:VTIMEZONE
TZID:Europe/Paris
BEGIN:DAYLIGHT
TZOFFSETFROM:+0100
TZOFFSETTO:+0200
TZNAME:CEST
DTSTART:20250330T010000
END:DAYLIGHT
BEGIN:STANDARD
TZOFFSETFROM:+0200
TZOFFSETTO:+0100
TZNAME:CET
DTSTART:20251026T010000
END:STANDARD
END:VTIMEZONE
BEGIN:VEVENT
DTSTART;TZID=Europe/Paris:20251104T120000
DTEND;TZID=Europe/Paris:20251104T190000
DTSTAMP:20260421T231435
CREATED:20250210T103901Z
LAST-MODIFIED:20250210T103901Z
UID:5964-1762257600-1762282800@arctour.travel
SUMMARY:WORKSHOP ARCTOUR ANNECY
DESCRIPTION:
URL:https://arctour.travel/evenement/workshop-arctour-annecy/
END:VEVENT
BEGIN:VEVENT
DTSTART;TZID=Europe/Paris:20251104T180000
DTEND;TZID=Europe/Paris:20251104T220000
DTSTAMP:20260421T231435
CREATED:20250211T100541Z
LAST-MODIFIED:20250211T100541Z
UID:5984-1762279200-1762293600@arctour.travel
SUMMARY:PONANT & BEACHCOMBER - DIJON - SOIREE
DESCRIPTION:
URL:https://arctour.travel/evenement/ponant-beachcomber-dijon-soiree/
END:VEVENT
BEGIN:VEVENT
DTSTART;TZID=Europe/Paris:20251105T180000
DTEND;TZID=Europe/Paris:20251105T223000
DTSTAMP:20260421T231435
CREATED:20241128T090152Z
LAST-MODIFIED:20241128T090152Z
UID:5839-1762365600-1762381800@arctour.travel
SUMMARY:AIR CANADA - LYON - SOIREE
DESCRIPTION:
URL:https://arctour.travel/evenement/air-canada-lyon-soiree/
END:VEVENT
BEGIN:VEVENT
DTSTART;TZID=Europe/Paris:20251106T120000
DTEND;TZID=Europe/Paris:20251106T190000
DTSTAMP:20260421T231435
CREATED:20250210T104052Z
LAST-MODIFIED:20250211T102658Z
UID:5970-1762430400-1762455600@arctour.travel
SUMMARY:WORKSHOP ARCTOUR BESANCON
DESCRIPTION:
URL:https://arctour.travel/evenement/workshop-arctour-besancon/
END:VEVENT
BEGIN:VEVENT
DTSTART;VALUE=DATE:20251112
DTEND;VALUE=DATE:20251113
DTSTAMP:20260421T231435
CREATED:20250922T075549Z
LAST-MODIFIED:20250922T075549Z
UID:6296-1762905600-1762991999@arctour.travel
SUMMARY:L'INSTANT BLEU BY PONANT / Lyon
DESCRIPTION:
URL:https://arctour.travel/evenement/linstant-bleu-by-ponant-lyon/
END:VEVENT
BEGIN:VEVENT
DTSTART;TZID=Europe/Paris:20251113T120000
DTEND;TZID=Europe/Paris:20251113T140000
DTSTAMP:20260421T231435
CREATED:20250515T124843Z
LAST-MODIFIED:20250515T124843Z
UID:6099-1763035200-1763042400@arctour.travel
SUMMARY:ASIA - VALENCE - MIDI
DESCRIPTION:
URL:https://arctour.travel/evenement/asia-valence-midi/
END:VEVENT
BEGIN:VEVENT
DTSTART;TZID=Europe/Paris:20251113T180000
DTEND;TZID=Europe/Paris:20251113T220000
DTSTAMP:20260421T231435
CREATED:20250210T104948Z
LAST-MODIFIED:20250210T104948Z
UID:5972-1763056800-1763071200@arctour.travel
SUMMARY:VISITEURS - CLERMONT - SOIREE
DESCRIPTION:
URL:https://arctour.travel/evenement/visiteurs-clermont-soiree/
END:VEVENT
BEGIN:VEVENT
DTSTART;TZID=Europe/Paris:20251113T180000
DTEND;TZID=Europe/Paris:20251113T220000
DTSTAMP:20260421T231435
CREATED:20250211T100628Z
LAST-MODIFIED:20250211T100628Z
UID:5986-1763056800-1763071200@arctour.travel
SUMMARY:PONANT & BEACHCOMBER - CHALON SUR SAONE - SOIREE
DESCRIPTION:
URL:https://arctour.travel/evenement/ponant-beachcomber-chalon-sur-saone-soiree-2/
END:VEVENT
BEGIN:VEVENT
DTSTART;TZID=Europe/Paris:20251113T180000
DTEND;TZID=Europe/Paris:20251113T220000
DTSTAMP:20260421T231435
CREATED:20250515T124934Z
LAST-MODIFIED:20250515T124934Z
UID:6101-1763056800-1763071200@arctour.travel
SUMMARY:ASIA - GRENOBLE - SOIREE
DESCRIPTION:
URL:https://arctour.travel/evenement/asia-grenoble-soiree-2/
END:VEVENT
BEGIN:VEVENT
DTSTART;VALUE=DATE:20251119
DTEND;VALUE=DATE:20251120
DTSTAMP:20260421T231435
CREATED:20250922T075733Z
LAST-MODIFIED:20250922T075733Z
UID:6301-1763510400-1763596799@arctour.travel
SUMMARY:L'INSTANT BLEU BY PONANT / DIJON/BEAUNE
DESCRIPTION:
URL:https://arctour.travel/evenement/linstant-bleu-by-ponant-dijon-beaune/
END:VEVENT
END:VCALENDAR