BEGIN:VCALENDAR
VERSION:2.0
PRODID:-//Arctour.travel - ECPv6.8.3//NONSGML v1.0//EN
CALSCALE:GREGORIAN
METHOD:PUBLISH
X-ORIGINAL-URL:https://arctour.travel
X-WR-CALDESC:Évènements pour Arctour.travel
REFRESH-INTERVAL;VALUE=DURATION:PT1H
X-Robots-Tag:noindex
X-PUBLISHED-TTL:PT1H
BEGIN:VTIMEZONE
TZID:Europe/Paris
BEGIN:DAYLIGHT
TZOFFSETFROM:+0100
TZOFFSETTO:+0200
TZNAME:CEST
DTSTART:20260329T010000
END:DAYLIGHT
BEGIN:STANDARD
TZOFFSETFROM:+0200
TZOFFSETTO:+0100
TZNAME:CET
DTSTART:20261025T010000
END:STANDARD
END:VTIMEZONE
BEGIN:VEVENT
DTSTART;VALUE=DATE:20260115
DTEND;VALUE=DATE:20260116
DTSTAMP:20260421T200614
CREATED:20251022T142220Z
LAST-MODIFIED:20251201T161511Z
UID:6315-1768435200-1768521599@arctour.travel
SUMMARY:WORKSHP ARCTOUR DIJON
DESCRIPTION:
URL:https://arctour.travel/evenement/workshp-arctour-dijon/
END:VEVENT
BEGIN:VEVENT
DTSTART;TZID=Europe/Paris:20260120T120000
DTEND;TZID=Europe/Paris:20260120T140000
DTSTAMP:20260421T200614
CREATED:20251210T133539Z
LAST-MODIFIED:20251210T133539Z
UID:6362-1768910400-1768917600@arctour.travel
SUMMARY:Bourg en Bresse O VOYAGES/MSC
DESCRIPTION:
URL:https://arctour.travel/evenement/bourg-en-bresse-o-voyages-msc/
END:VEVENT
BEGIN:VEVENT
DTSTART;TZID=Europe/Paris:20260122T180000
DTEND;TZID=Europe/Paris:20260122T220000
DTSTAMP:20260421T200614
CREATED:20250626T062907Z
LAST-MODIFIED:20250626T062907Z
UID:6140-1769104800-1769119200@arctour.travel
SUMMARY:VISITEURS - LYON - SOIREE
DESCRIPTION:
URL:https://arctour.travel/evenement/visiteurs-lyon-soiree/
END:VEVENT
BEGIN:VEVENT
DTSTART;TZID=Europe/Paris:20260127T120000
DTEND;TZID=Europe/Paris:20260127T140000
DTSTAMP:20260421T200614
CREATED:20250912T121509Z
LAST-MODIFIED:20250912T121509Z
UID:6282-1769515200-1769522400@arctour.travel
SUMMARY:KUONI - ANNECY - DEJEUNER
DESCRIPTION:
URL:https://arctour.travel/evenement/kuoni-annecy-dejeuner/
END:VEVENT
BEGIN:VEVENT
DTSTART;TZID=Europe/Paris:20260127T180000
DTEND;TZID=Europe/Paris:20260127T220000
DTSTAMP:20260421T200614
CREATED:20250912T121538Z
LAST-MODIFIED:20250912T121538Z
UID:6284-1769536800-1769551200@arctour.travel
SUMMARY:KUONI - VALENCE - SOIREE
DESCRIPTION:
URL:https://arctour.travel/evenement/kuoni-valence-soiree-2/
END:VEVENT
BEGIN:VEVENT
DTSTART;TZID=Europe/Paris:20260129T120000
DTEND;TZID=Europe/Paris:20260129T160000
DTSTAMP:20260421T200614
CREATED:20260115T073643Z
LAST-MODIFIED:20260115T073643Z
UID:6403-1769688000-1769702400@arctour.travel
SUMMARY:KUONI - LYON - APRES MIDI
DESCRIPTION:
URL:https://arctour.travel/evenement/kuoni-lyon-apres-midi/
END:VEVENT
BEGIN:VEVENT
DTSTART;TZID=Europe/Paris:20260129T180000
DTEND;TZID=Europe/Paris:20260129T220000
DTSTAMP:20260421T200614
CREATED:20251215T075450Z
LAST-MODIFIED:20251215T075450Z
UID:6372-1769709600-1769724000@arctour.travel
SUMMARY:LYON - AEROPORT DE LYON - SOIREE
DESCRIPTION:
URL:https://arctour.travel/evenement/lyon-aeroport-de-lyon-soiree/
END:VEVENT
END:VCALENDAR