BEGIN:VCALENDAR
VERSION:2.0
PRODID:-//Arctour.travel - ECPv6.8.3//NONSGML v1.0//EN
CALSCALE:GREGORIAN
METHOD:PUBLISH
X-WR-CALNAME:Arctour.travel
X-ORIGINAL-URL:https://arctour.travel
X-WR-CALDESC:Évènements pour Arctour.travel
REFRESH-INTERVAL;VALUE=DURATION:PT1H
X-Robots-Tag:noindex
X-PUBLISHED-TTL:PT1H
BEGIN:VTIMEZONE
TZID:Europe/Paris
BEGIN:DAYLIGHT
TZOFFSETFROM:+0100
TZOFFSETTO:+0200
TZNAME:CEST
DTSTART:20260329T010000
END:DAYLIGHT
BEGIN:STANDARD
TZOFFSETFROM:+0200
TZOFFSETTO:+0100
TZNAME:CET
DTSTART:20261025T010000
END:STANDARD
END:VTIMEZONE
BEGIN:VEVENT
DTSTART;TZID=Europe/Paris:20260303T180000
DTEND;TZID=Europe/Paris:20260303T220000
DTSTAMP:20260421T171754
CREATED:20250527T112304Z
LAST-MODIFIED:20250527T112304Z
UID:6110-1772560800-1772575200@arctour.travel
SUMMARY:Climats du Monde - St Etienne - Diner
DESCRIPTION:
URL:https://arctour.travel/evenement/climats-du-monde-st-etienne-diner/
END:VEVENT
BEGIN:VEVENT
DTSTART;TZID=Europe/Paris:20260305T180000
DTEND;TZID=Europe/Paris:20260305T223000
DTSTAMP:20260421T171754
CREATED:20260203T081315Z
LAST-MODIFIED:20260203T081315Z
UID:6445-1772733600-1772749800@arctour.travel
SUMMARY:ASIA EMIRATES TELDAR OT ARABIE SAOUDITE - LYON - SOIREE
DESCRIPTION:
URL:https://arctour.travel/evenement/asia-emirates-teldar-ot-arabie-saoudite-lyon-soiree/
END:VEVENT
BEGIN:VEVENT
DTSTART;TZID=Europe/Paris:20260310T120000
DTEND;TZID=Europe/Paris:20260310T140000
DTSTAMP:20260421T171754
CREATED:20250527T112339Z
LAST-MODIFIED:20250527T112339Z
UID:6112-1773144000-1773151200@arctour.travel
SUMMARY:Climats du Monde - Dijon - Déjeuner
DESCRIPTION:
URL:https://arctour.travel/evenement/climats-du-monde-dijon-dejeuner/
END:VEVENT
BEGIN:VEVENT
DTSTART;TZID=Europe/Paris:20260312T180000
DTEND;TZID=Europe/Paris:20260312T220000
DTSTAMP:20260421T171754
CREATED:20250527T112451Z
LAST-MODIFIED:20250527T112451Z
UID:6114-1773338400-1773352800@arctour.travel
SUMMARY:Climats du Monde - Besançon - Soirée
DESCRIPTION:
URL:https://arctour.travel/evenement/climats-du-monde-besancon-soiree/
END:VEVENT
BEGIN:VEVENT
DTSTART;TZID=Europe/Paris:20260312T180000
DTEND;TZID=Europe/Paris:20260312T220000
DTSTAMP:20260421T171754
CREATED:20260224T174743Z
LAST-MODIFIED:20260224T174743Z
UID:6480-1773338400-1773352800@arctour.travel
SUMMARY:O VOYAGE - LYON - SOIREE
DESCRIPTION:
URL:https://arctour.travel/evenement/o-voyage-lyon-soiree/
END:VEVENT
BEGIN:VEVENT
DTSTART;TZID=Europe/Paris:20260326T120000
DTEND;TZID=Europe/Paris:20260326T140000
DTSTAMP:20260421T171754
CREATED:20260203T080636Z
LAST-MODIFIED:20260203T080636Z
UID:6434-1774526400-1774533600@arctour.travel
SUMMARY:BEACHCOMBER - ST ETIENNE - DEJEUNER
DESCRIPTION:
URL:https://arctour.travel/evenement/beachcomber-st-etienne-dejeuner/
END:VEVENT
BEGIN:VEVENT
DTSTART;TZID=Europe/Paris:20260331T120000
DTEND;TZID=Europe/Paris:20260331T140000
DTSTAMP:20260421T171754
CREATED:20260203T080703Z
LAST-MODIFIED:20260203T080703Z
UID:6436-1774958400-1774965600@arctour.travel
SUMMARY:BEACHCOMBER - LYON - DEJEUNER
DESCRIPTION:
URL:https://arctour.travel/evenement/beachcomber-lyon-dejeuner/
END:VEVENT
BEGIN:VEVENT
DTSTART;TZID=Europe/Paris:20260331T180000
DTEND;TZID=Europe/Paris:20260331T220000
DTSTAMP:20260421T171754
CREATED:20260303T110124Z
LAST-MODIFIED:20260303T110124Z
UID:6488-1774980000-1774994400@arctour.travel
SUMMARY:VOYAMAR - ST ETIENNE - SOIREE
DESCRIPTION:
URL:https://arctour.travel/evenement/voyamar-st-etienne-soiree/
END:VEVENT
END:VCALENDAR