BEGIN:VCALENDAR
VERSION:2.0
PRODID:-//Arctour.travel - ECPv6.8.3//NONSGML v1.0//EN
CALSCALE:GREGORIAN
METHOD:PUBLISH
X-WR-CALNAME:Arctour.travel
X-ORIGINAL-URL:https://arctour.travel
X-WR-CALDESC:Évènements pour Arctour.travel
REFRESH-INTERVAL;VALUE=DURATION:PT1H
X-Robots-Tag:noindex
X-PUBLISHED-TTL:PT1H
BEGIN:VTIMEZONE
TZID:Europe/Paris
BEGIN:DAYLIGHT
TZOFFSETFROM:+0100
TZOFFSETTO:+0200
TZNAME:CEST
DTSTART:20260329T010000
END:DAYLIGHT
BEGIN:STANDARD
TZOFFSETFROM:+0200
TZOFFSETTO:+0100
TZNAME:CET
DTSTART:20261025T010000
END:STANDARD
END:VTIMEZONE
BEGIN:VEVENT
DTSTART;TZID=Europe/Paris:20260505T170000
DTEND;TZID=Europe/Paris:20260505T223000
DTSTAMP:20260421T170843
CREATED:20260119T142325Z
LAST-MODIFIED:20260119T142325Z
UID:6413-1778000400-1778020200@arctour.travel
SUMMARY:HELIADES / VOYAMAR - GRENOBLE - SOIREE
DESCRIPTION:
URL:https://arctour.travel/evenement/heliades-voyamar-grenoble-soiree/
END:VEVENT
BEGIN:VEVENT
DTSTART;TZID=Europe/Paris:20260521T180000
DTEND;TZID=Europe/Paris:20260521T223000
DTSTAMP:20260421T170843
CREATED:20260203T080734Z
LAST-MODIFIED:20260203T080734Z
UID:6438-1779386400-1779402600@arctour.travel
SUMMARY:BEACHCOMBER - LYON - SOIREE
DESCRIPTION:
URL:https://arctour.travel/evenement/beachcomber-lyon-soiree/
END:VEVENT
BEGIN:VEVENT
DTSTART;TZID=Europe/Paris:20260526T173000
DTEND;TZID=Europe/Paris:20260526T223000
DTSTAMP:20260421T170843
CREATED:20260119T142437Z
LAST-MODIFIED:20260303T130328Z
UID:6419-1779816600-1779834600@arctour.travel
SUMMARY:HELIADES / VOYAMAR - MACON - SOIREE
DESCRIPTION:
URL:https://arctour.travel/evenement/heliades-voyamar-macon-soiree/
END:VEVENT
BEGIN:VEVENT
DTSTART;TZID=Europe/Paris:20260528T170000
DTEND;TZID=Europe/Paris:20260528T220000
DTSTAMP:20260421T170843
CREATED:20260119T142353Z
LAST-MODIFIED:20260119T142353Z
UID:6415-1779987600-1780005600@arctour.travel
SUMMARY:HELIADES / VOYAMAR - ST ETIENNE - SOIREE
DESCRIPTION:
URL:https://arctour.travel/evenement/heliades-voyamar-st-etienne-soiree/
END:VEVENT
END:VCALENDAR